BEGIN:VCALENDAR
VERSION:2.0
PRODID:-//Loxahatchee River District - ECPv6.15.20//NONSGML v1.0//EN
CALSCALE:GREGORIAN
METHOD:PUBLISH
X-WR-CALNAME:Loxahatchee River District
X-ORIGINAL-URL:https://loxahatcheeriver.org
X-WR-CALDESC:Events for Loxahatchee River District
REFRESH-INTERVAL;VALUE=DURATION:PT1H
X-Robots-Tag:noindex
X-PUBLISHED-TTL:PT1H
BEGIN:VTIMEZONE
TZID:America/New_York
BEGIN:DAYLIGHT
TZOFFSETFROM:-0500
TZOFFSETTO:-0400
TZNAME:EDT
DTSTART:20190310T070000
END:DAYLIGHT
BEGIN:STANDARD
TZOFFSETFROM:-0400
TZOFFSETTO:-0500
TZNAME:EST
DTSTART:20191103T060000
END:STANDARD
BEGIN:DAYLIGHT
TZOFFSETFROM:-0500
TZOFFSETTO:-0400
TZNAME:EDT
DTSTART:20200308T070000
END:DAYLIGHT
BEGIN:STANDARD
TZOFFSETFROM:-0400
TZOFFSETTO:-0500
TZNAME:EST
DTSTART:20201101T060000
END:STANDARD
BEGIN:DAYLIGHT
TZOFFSETFROM:-0500
TZOFFSETTO:-0400
TZNAME:EDT
DTSTART:20210314T070000
END:DAYLIGHT
BEGIN:STANDARD
TZOFFSETFROM:-0400
TZOFFSETTO:-0500
TZNAME:EST
DTSTART:20211107T060000
END:STANDARD
END:VTIMEZONE
BEGIN:VEVENT
DTSTART;TZID=America/New_York:20200312T130000
DTEND;TZID=America/New_York:20200312T170000
DTSTAMP:20260421T095648
CREATED:20200227T215351Z
LAST-MODIFIED:20200227T215401Z
UID:3802-1584018000-1584032400@loxahatcheeriver.org
SUMMARY:Admin Committee Meeting
DESCRIPTION:2500 Jupiter Park Dr\, Jupiter
URL:https://loxahatcheeriver.org/event/admin-committee-meeting/
END:VEVENT
BEGIN:VEVENT
DTSTART;TZID=America/New_York:20200319T190000
DTEND;TZID=America/New_York:20200319T210000
DTSTAMP:20260421T095648
CREATED:20200108T144134Z
LAST-MODIFIED:20200108T145002Z
UID:3661-1584644400-1584651600@loxahatcheeriver.org
SUMMARY:LRD Board Meeting & Public Hearing
DESCRIPTION:Public Hearing: 6:55 pm-Rules Chapter 31-10\, Rates\, Fees & Charges\n2500 Jupiter Park Dr\, Jupiter
URL:https://loxahatcheeriver.org/event/lrd-board-meeting-2020-03-19/
END:VEVENT
END:VCALENDAR