BEGIN:VCALENDAR
VERSION:2.0
PRODID:-//Loxahatchee River District - ECPv6.15.20//NONSGML v1.0//EN
CALSCALE:GREGORIAN
METHOD:PUBLISH
X-ORIGINAL-URL:https://loxahatcheeriver.org
X-WR-CALDESC:Events for Loxahatchee River District
REFRESH-INTERVAL;VALUE=DURATION:PT1H
X-Robots-Tag:noindex
X-PUBLISHED-TTL:PT1H
BEGIN:VTIMEZONE
TZID:America/New_York
BEGIN:DAYLIGHT
TZOFFSETFROM:-0500
TZOFFSETTO:-0400
TZNAME:EDT
DTSTART:20210314T070000
END:DAYLIGHT
BEGIN:STANDARD
TZOFFSETFROM:-0400
TZOFFSETTO:-0500
TZNAME:EST
DTSTART:20211107T060000
END:STANDARD
BEGIN:DAYLIGHT
TZOFFSETFROM:-0500
TZOFFSETTO:-0400
TZNAME:EDT
DTSTART:20220313T070000
END:DAYLIGHT
BEGIN:STANDARD
TZOFFSETFROM:-0400
TZOFFSETTO:-0500
TZNAME:EST
DTSTART:20221106T060000
END:STANDARD
BEGIN:DAYLIGHT
TZOFFSETFROM:-0500
TZOFFSETTO:-0400
TZNAME:EDT
DTSTART:20230312T070000
END:DAYLIGHT
BEGIN:STANDARD
TZOFFSETFROM:-0400
TZOFFSETTO:-0500
TZNAME:EST
DTSTART:20231105T060000
END:STANDARD
END:VTIMEZONE
BEGIN:VEVENT
DTSTART;TZID=America/New_York:20220317T185500
DTEND;TZID=America/New_York:20220317T190000
DTSTAMP:20260423T113955
CREATED:20220222T135844Z
LAST-MODIFIED:20220222T140435Z
UID:5702-1647543300-1647543600@loxahatcheeriver.org
SUMMARY:Public Hearings
DESCRIPTION:Rates\, Fees and Charges\nFinal Assessment – 181st St. N\n2500 Jupiter Park Drive\, Jupiter\, FL 33458
URL:https://loxahatcheeriver.org/event/public-hearing-5/
END:VEVENT
BEGIN:VEVENT
DTSTART;TZID=America/New_York:20220317T190000
DTEND;TZID=America/New_York:20220317T210000
DTSTAMP:20260423T113955
CREATED:20201026T201515Z
LAST-MODIFIED:20220222T135722Z
UID:4391-1647543600-1647550800@loxahatcheeriver.org
SUMMARY:LRD Board Meeting
DESCRIPTION:2500 Jupiter Park Drive\, Jupiter\, FL 33458
URL:https://loxahatcheeriver.org/event/lrd-board-meeting-2-2022-03-17/
END:VEVENT
END:VCALENDAR